BEGIN:VCALENDAR
VERSION:2.0
PRODID:-//WeShareTalent - ECPv6.0.6.2//NONSGML v1.0//EN
CALSCALE:GREGORIAN
METHOD:PUBLISH
X-ORIGINAL-URL:https://wesharetalent.com
X-WR-CALDESC:Events for WeShareTalent
REFRESH-INTERVAL;VALUE=DURATION:PT1H
X-Robots-Tag:noindex
X-PUBLISHED-TTL:PT1H
BEGIN:VTIMEZONE
TZID:Europe/Amsterdam
BEGIN:DAYLIGHT
TZOFFSETFROM:+0100
TZOFFSETTO:+0200
TZNAME:CEST
DTSTART:20250330T010000
END:DAYLIGHT
BEGIN:STANDARD
TZOFFSETFROM:+0200
TZOFFSETTO:+0100
TZNAME:CET
DTSTART:20251026T010000
END:STANDARD
END:VTIMEZONE
BEGIN:VEVENT
DTSTART;TZID=Europe/Amsterdam:20250624T143000
DTEND;TZID=Europe/Amsterdam:20250624T170000
DTSTAMP:20260423T121922
CREATED:20250402T124704Z
LAST-MODIFIED:20250402T124815Z
UID:10000789-1750775400-1750784400@wesharetalent.com
SUMMARY:Wat gaat AI voor mij betekenen?
DESCRIPTION:AI is geen verre toekomstmuziek meer—het is hier en nu. Maar wat betekent dat voor jou en je werk? Hoe zorg je ervoor dat je niet alleen bijblijft\, maar AI ook écht in je voordeel laat werken? Tijdens dit interactieve event duiken we in de impact van AI en hoe jij hier slim op kunt inspelen.\n\nWe gaan in op:\n\nDe EU AI Act – Wat betekent deze wetgeving voor hoe we AI binnen moeten inzetten?\nAI-human skills – Hoe blijf jij als professional relevant in een wereld waar AI steeds meer taken overneemt?\nAI-geletterdheid – De basiskennis en vaardigheden die nodig zijn om AI effectief en verantwoord te gebruiken.\nAI-fit – Hoe zorg je ervoor dat AI naadloos aansluit op jouw werkproces en manier van werken?\n\n\n\nAI kan je helpen om slimmer en efficiënter te werken\, risico’s beter te voorspellen en klantinteracties te optimaliseren. Maar het vraagt ook om een nieuwe manier van denken en werken. Dit event helpt je om grip te krijgen op AI en te ontdekken hoe je er zelf de vruchten van plukt. \n\nDoe mee en ontdek hoe jij AI niet alleen begrijpt\, maar er ook optimaal van profiteert!\n\n\nLet op: Klik na het aanmelden op de knop ‘add to calendar’.
URL:https://wesharetalent.com/event/wat-gaat-ai-voor-mij-betekenen/
LOCATION:Aon | Admiraliteitskade 62\, Rotterdam
CATEGORIES:Organisatie ontwikkeling
ATTACH;FMTTYPE=image/png:https://wesharetalent.com/wp-content/uploads/2025/04/Website-fotos-86.png
END:VEVENT
END:VCALENDAR