BEGIN:VCALENDAR
VERSION:2.0
PRODID:-//WeShareTalent - ECPv6.0.6.2//NONSGML v1.0//EN
CALSCALE:GREGORIAN
METHOD:PUBLISH
X-WR-CALNAME:WeShareTalent
X-ORIGINAL-URL:https://wesharetalent.com
X-WR-CALDESC:Events for WeShareTalent
REFRESH-INTERVAL;VALUE=DURATION:PT1H
X-Robots-Tag:noindex
X-PUBLISHED-TTL:PT1H
BEGIN:VTIMEZONE
TZID:Europe/Amsterdam
BEGIN:DAYLIGHT
TZOFFSETFROM:+0100
TZOFFSETTO:+0200
TZNAME:CEST
DTSTART:20240331T010000
END:DAYLIGHT
BEGIN:STANDARD
TZOFFSETFROM:+0200
TZOFFSETTO:+0100
TZNAME:CET
DTSTART:20241027T010000
END:STANDARD
END:VTIMEZONE
BEGIN:VEVENT
DTSTART;TZID=Europe/Amsterdam:20241001T100000
DTEND;TZID=Europe/Amsterdam:20241001T113000
DTSTAMP:20260421T151205
CREATED:20240711T135034Z
LAST-MODIFIED:20240711T135321Z
UID:10000571-1727776800-1727782200@wesharetalent.com
SUMMARY:Inclusieve gesprekken met deep democracy
DESCRIPTION:Deep Democracy is een zienswijze en een praktische methode voor iedereen die werkt in en met groepen mensen. Het doel is om de wijsheid van de groep optimaal te benutten. Een belangrijk uitgangspunt is: alles wat gezegd moet worden\, kan gezegd worden. (Menings)verschillen worden niet uit de weg gegaan maar juist verkend en gewaardeerd. Daarmee wordt de onderstroom van de groep\, die anders vaak verborgen blijft en op de meest onverwachte (ongunstige) momenten de kop op steekt\, hanteerbaar. Overleggen worden efficiënter\, besluiten worden kwalitatief sterker en teams en organisaties werken effectiever. \nDeze workshop is een kennismaking met Deep Democracy. Omdat organisaties niet meer om de vraag heen kunnen hoe op een inclusieve manier om te gaan met de diversiteit in de samenleving die een feit is\, laat ik jullie graag ervaren hoe diep democratische gespreksvoering bij uitstek geschikt is voor inclusieve gesprekken. \nWat neem je mee uit deze sessie: \nWat deep democracy betekent en inhoudt.\nHeb je een idee over hoe je het kunt gebruiken om het goede gesprek te voeren;\nHeb je wellicht ook nog wel iets geleerd over jezelf en hoe jij omgaat met diversiteit.\n\nLet op: Klik na het aanmelden op de knop ‘add to calendar’. De zoomlink wordt meegestuurd in de bevestigingsmail.
URL:https://wesharetalent.com/event/inclusieve-gesprekken-met-deep-democracy-4/
LOCATION:Van lieverlee | Online via Zoom
CATEGORIES:Maatschappelijke ontwikkeling
ATTACH;FMTTYPE=image/png:https://wesharetalent.com/wp-content/uploads/2023/03/Ontwerp-zonder-titel-29.png
END:VEVENT
BEGIN:VEVENT
DTSTART;TZID=Europe/Amsterdam:20240829T100000
DTEND;TZID=Europe/Amsterdam:20240829T113000
DTSTAMP:20260421T151205
CREATED:20231026T091338Z
LAST-MODIFIED:20240503T141536Z
UID:10000313-1724925600-1724931000@wesharetalent.com
SUMMARY:Inclusieve gesprekken met deep democracy
DESCRIPTION:Deep Democracy is een zienswijze en een praktische methode voor iedereen die werkt in en met groepen mensen. Het doel is om de wijsheid van de groep optimaal te benutten. Een belangrijk uitgangspunt is: alles wat gezegd moet worden\, kan gezegd worden. (Menings)verschillen worden niet uit de weg gegaan maar juist verkend en gewaardeerd. Daarmee wordt de onderstroom van de groep\, die anders vaak verborgen blijft en op de meest onverwachte (ongunstige) momenten de kop op steekt\, hanteerbaar. Overleggen worden efficiënter\, besluiten worden kwalitatief sterker en teams en organisaties werken effectiever. \nDeze workshop is een kennismaking met Deep Democracy. Omdat organisaties niet meer om de vraag heen kunnen hoe op een inclusieve manier om te gaan met de diversiteit in de samenleving die een feit is\, laat ik jullie graag ervaren hoe diep democratische gespreksvoering bij uitstek geschikt is voor inclusieve gesprekken. \nWat neem je mee uit deze sessie: \nWat deep democracy betekent en inhoudt.\nHeb je een idee over hoe je het kunt gebruiken om het goede gesprek te voeren;\nHeb je wellicht ook nog wel iets geleerd over jezelf en hoe jij omgaat met diversiteit.\n\nLet op: Klik na het aanmelden op de knop ‘add to calendar’. De zoomlink wordt meegestuurd in de bevestigingsmail.
URL:https://wesharetalent.com/event/inclusieve-gesprekken-met-deep-democracy-3/
LOCATION:Van lieverlee | Online via Zoom
CATEGORIES:Maatschappelijke ontwikkeling
ATTACH;FMTTYPE=image/png:https://wesharetalent.com/wp-content/uploads/2023/03/Ontwerp-zonder-titel-29.png
END:VEVENT
BEGIN:VEVENT
DTSTART;TZID=Europe/Amsterdam:20240702T130000
DTEND;TZID=Europe/Amsterdam:20240702T150000
DTSTAMP:20260421T151205
CREATED:20240409T135742Z
LAST-MODIFIED:20240430T134137Z
UID:10000481-1719925200-1719932400@wesharetalent.com
SUMMARY:De kunst van afscheid nemen
DESCRIPTION:Even over afscheid \n“Wie nooit een deur dicht doet\, staat altijd op de tocht.” zei de Duitse Monnik Anselm Grün. Één van de eerste dingen die grote mensen van kleine kinderen vragen is: gedag zeggen. “Zeg eens dag tegen die mevrouw!” Ons hele leven nemen we afscheid: van periodes in het leven\, vriendschappen\, dromen\, ideeën\, gezondheid\, dierbaren en uiteindelijk van het leven zelf. Als we goed afscheid nemen laten we achter ons wat geweest is en nemen we mee wat van waarde is. Zo ontstaat er ruimte voor het openen van nieuwe deuren en het omarmen van dat wat er is. Deze middag over afscheid staat in het teken van afscheid nemen in de breedste zin. Goed afscheid nemen is een kunst\, waarbij rituelen\, poëzie\, muziek en het delen van verhalen en herinneringen helpend zijn. \nWat neem je mee uit deze sessie: \nDeze middag is voor iedereen die afscheid nam\, neemt of zal nemen van iets of iemand;\nJe leert hoe je zo’n moment niet zomaar voorbij laat gaan zodat je vasthoudt wat van waarde is en achterlaat wat je niet meer nodig hebt;\nAls je wil\, deel je en verbind je met anderen die ook afscheid nemen.\n\nLet op: Klik na het aanmelden op de knop ‘add to calendar’.
URL:https://wesharetalent.com/event/de-kunst-van-afscheid-nemen/
LOCATION:Van lieverlee | Structuurbaan 2\, Nieuwegein
CATEGORIES:Persoonlijke ontwikkeling
ATTACH;FMTTYPE=image/jpeg:https://wesharetalent.com/wp-content/uploads/2024/04/luis-alfonso-orellana-WjIB-6UxA5Q-unsplash-2.jpg
END:VEVENT
BEGIN:VEVENT
DTSTART;TZID=Europe/Amsterdam:20240627T130000
DTEND;TZID=Europe/Amsterdam:20240627T153000
DTSTAMP:20260421T151205
CREATED:20231026T090923Z
LAST-MODIFIED:20240503T141531Z
UID:10000312-1719493200-1719502200@wesharetalent.com
SUMMARY:Inclusieve gesprekken met deep democracy
DESCRIPTION:Deep Democracy is een zienswijze en een praktische methode voor iedereen die werkt in en met groepen mensen. Het doel is om de wijsheid van de groep optimaal te benutten. Een belangrijk uitgangspunt is: alles wat gezegd moet worden\, kan gezegd worden. (Menings)verschillen worden niet uit de weg gegaan maar juist verkend en gewaardeerd. Daarmee wordt de onderstroom van de groep\, die anders vaak verborgen blijft en op de meest onverwachte (ongunstige) momenten de kop op steekt\, hanteerbaar. Overleggen worden efficiënter\, besluiten worden kwalitatief sterker en teams en organisaties werken effectiever. \nDeze workshop is een kennismaking met Deep Democracy. Omdat organisaties niet meer om de vraag heen kunnen hoe op een inclusieve manier om te gaan met de diversiteit in de samenleving die een feit is\, laat ik jullie graag ervaren hoe diep democratische gespreksvoering bij uitstek geschikt is voor inclusieve gesprekken. \nWat neem je mee uit deze sessie: \nWat deep democracy betekent en inhoudt.\nHeb je een idee over hoe je het kunt gebruiken om het goede gesprek te voeren;\nHeb je wellicht ook nog wel iets geleerd over jezelf en hoe jij omgaat met diversiteit.\n\nLet op: Klik na het aanmelden op de knop ‘add to calendar’. De zoomlink wordt meegestuurd in de bevestigingsmail.
URL:https://wesharetalent.com/event/inclusieve-gesprekken-met-deep-democracy-2/
LOCATION:Van lieverlee | Structuurbaan 2\, Nieuwegein
CATEGORIES:Maatschappelijke ontwikkeling
ATTACH;FMTTYPE=image/png:https://wesharetalent.com/wp-content/uploads/2023/03/Ontwerp-zonder-titel-29.png
END:VEVENT
BEGIN:VEVENT
DTSTART;TZID=Europe/Amsterdam:20240514T100000
DTEND;TZID=Europe/Amsterdam:20240514T113000
DTSTAMP:20260421T151205
CREATED:20231026T085523Z
LAST-MODIFIED:20240521T071227Z
UID:10000311-1715680800-1715686200@wesharetalent.com
SUMMARY:Inclusieve gesprekken met deep democracy
DESCRIPTION:Deep Democracy is een zienswijze en een praktische methode voor iedereen die werkt in en met groepen mensen. Het doel is om de wijsheid van de groep optimaal te benutten. Een belangrijk uitgangspunt is: alles wat gezegd moet worden\, kan gezegd worden. (Menings)verschillen worden niet uit de weg gegaan maar juist verkend en gewaardeerd. Daarmee wordt de onderstroom van de groep\, die anders vaak verborgen blijft en op de meest onverwachte (ongunstige) momenten de kop op steekt\, hanteerbaar. Overleggen worden efficiënter\, besluiten worden kwalitatief sterker en teams en organisaties werken effectiever. \nDeze workshop is een kennismaking met Deep Democracy. Omdat organisaties niet meer om de vraag heen kunnen hoe op een inclusieve manier om te gaan met de diversiteit in de samenleving die een feit is\, laat ik jullie graag ervaren hoe diep democratische gespreksvoering bij uitstek geschikt is voor inclusieve gesprekken. \nWat neem je mee uit deze sessie: \nWat deep democracy betekent en inhoudt.\nHeb je een idee over hoe je het kunt gebruiken om het goede gesprek te voeren;\nHeb je wellicht ook nog wel iets geleerd over jezelf en hoe jij omgaat met diversiteit.\n\nLet op: Klik na het aanmelden op de knop ‘add to calendar’. De zoomlink wordt meegestuurd in de bevestigingsmail.
URL:https://wesharetalent.com/event/inclusieve-gesprekken-met-deep-democracy/
LOCATION:Van lieverlee | Online via Zoom
CATEGORIES:Maatschappelijke ontwikkeling
ATTACH;FMTTYPE=image/png:https://wesharetalent.com/wp-content/uploads/2023/03/Ontwerp-zonder-titel-29.png
END:VEVENT
BEGIN:VEVENT
DTSTART;TZID=Europe/Amsterdam:20240312T093000
DTEND;TZID=Europe/Amsterdam:20240312T120000
DTSTAMP:20260421T151205
CREATED:20231026T084921Z
LAST-MODIFIED:20240429T092712Z
UID:10000310-1710235800-1710244800@wesharetalent.com
SUMMARY:Inclusieve gesprekken met deep democracy
DESCRIPTION:Deep Democracy is een zienswijze en een praktische methode voor iedereen die werkt in en met groepen mensen. Het doel is om de wijsheid van de groep optimaal te benutten. Een belangrijk uitgangspunt is: alles wat gezegd moet worden\, kan gezegd worden. (Menings)verschillen worden niet uit de weg gegaan maar juist verkend en gewaardeerd. Daarmee wordt de onderstroom van de groep\, die anders vaak verborgen blijft en op de meest onverwachte (ongunstige) momenten de kop op steekt\, hanteerbaar. Overleggen worden efficiënter\, besluiten worden kwalitatief sterker en teams en organisaties werken effectiever. \nDeze workshop is een kennismaking met Deep Democracy. Omdat organisaties niet meer om de vraag heen kunnen hoe op een inclusieve manier om te gaan met de diversiteit in de samenleving die een feit is\, laat ik jullie graag ervaren hoe diep democratische gespreksvoering bij uitstek geschikt is voor inclusieve gesprekken. \nAan het eind van de workshop: \n\nHeb je een eerste idee van wat Deep Democracy is;\nHeb je een idee over hoe je het kunt gebruiken om het goede gesprek te voeren;\nEn heb je wellicht ook nog wel iets geleerd over jezelf en hoe jij omgaat met diversiteit.\n\nLet op: Klik na het aanmelden op de knop ‘add to calendar’. De zoomlink wordt meegestuurd in de bevestigingsmail.
URL:https://wesharetalent.com/event/inclusieve-gesprekken-met-deep-democracy-door-van-lieverlee/
LOCATION:Van lieverlee | Structuurbaan 2\, Nieuwegein
CATEGORIES:Maatschappelijke ontwikkeling
ATTACH;FMTTYPE=image/png:https://wesharetalent.com/wp-content/uploads/2023/03/Ontwerp-zonder-titel-29.png
END:VEVENT
END:VCALENDAR