BEGIN:VCALENDAR
VERSION:2.0
PRODID:-//WeShareTalent - ECPv6.0.6.2//NONSGML v1.0//EN
CALSCALE:GREGORIAN
METHOD:PUBLISH
X-WR-CALNAME:WeShareTalent
X-ORIGINAL-URL:https://wesharetalent.com
X-WR-CALDESC:Events for WeShareTalent
REFRESH-INTERVAL;VALUE=DURATION:PT1H
X-Robots-Tag:noindex
X-PUBLISHED-TTL:PT1H
BEGIN:VTIMEZONE
TZID:Europe/Amsterdam
BEGIN:DAYLIGHT
TZOFFSETFROM:+0100
TZOFFSETTO:+0200
TZNAME:CEST
DTSTART:20250330T010000
END:DAYLIGHT
BEGIN:STANDARD
TZOFFSETFROM:+0200
TZOFFSETTO:+0100
TZNAME:CET
DTSTART:20251026T010000
END:STANDARD
END:VTIMEZONE
BEGIN:VEVENT
DTSTART;TZID=Europe/Amsterdam:20250311T100000
DTEND;TZID=Europe/Amsterdam:20250311T113000
DTSTAMP:20260420T122602
CREATED:20241211T151326Z
LAST-MODIFIED:20241212T084125Z
UID:10000687-1741687200-1741692600@wesharetalent.com
SUMMARY:Patronen doorbreken met Authentiek Leiderschap
DESCRIPTION:Ben jij iemand met een groot verantwoordelijkheidsgevoel en voelt de hoge werkdruk als een constante last? Ben je altijd druk met to-do lijsten en brandjes blussen? Leef je gestrest door overvolle agenda’s en deadlines? Of cijfer jij jezelf vaak weg door de tijdsdruk en de prestatiedruk? Dan schiet tijd nemen voor jezelf er vaak bij in. Je probeert immers alle ballen in de lucht probeert te houden ten koste van jezelf. En dat niet alleen: je bent ook je eigen identiteit en authenticiteit aan het verliezen\, want je luistert niet of nauwelijks naar je intuïtie en zit vast in je hoofd. Hierdoor kun je moeilijk grenzen aangeven en leef je op de\nautomatische piloot. \nHet wordt tijd om jouw oude gewoontes en patronen\, zoals perfectionisme\, pleasen\, jezelf willen bewijzen en controle willen houden\, te doorbreken en jezelf weer op #1 te zetten! \nWat neem je mee uit deze sessie: \n\nDe 11 meest voorkomende belemmerende overtuigingen en patronen;\nHoe je deze overtuigingen en patronen kunt herprogrammeren;\nHoe authentiek leiderschap jou kan helpen om trouw te blijven aan jezelf;\nDe 3 cruciale ingrediënten voor meer innerlijke rust;\nDé unieke formule om jezelf continu te blijven ontwikkelen.\n\nLet op: Klik na het aanmelden op de knop ‘add to calendar’. De zoomlink wordt meegestuurd in de bevestigingsmail.
URL:https://wesharetalent.com/event/patronen-doorbreken-met-authentiek-leiderschap/
LOCATION:Leid met lef | Online via Zoom
CATEGORIES:Persoonlijke ontwikkeling
ATTACH;FMTTYPE=image/jpeg:https://wesharetalent.com/wp-content/uploads/2024/12/Website-fotos-16.jpg
END:VEVENT
BEGIN:VEVENT
DTSTART;TZID=Europe/Amsterdam:20250930T133000
DTEND;TZID=Europe/Amsterdam:20250930T150000
DTSTAMP:20260420T122602
CREATED:20250423T124333Z
LAST-MODIFIED:20250423T124528Z
UID:10000808-1759239000-1759244400@wesharetalent.com
SUMMARY:Creëer een sterk team met Coachend Leiderschap
DESCRIPTION:De wereld om ons heen verandert in een razendsnel tempo. Voor jou als manager\, maar zeker ook voor je team en/of organisatie\, betekent dit dat je continu moet blijven groeien en ontwikkelen. Hoe sneller je leert meebewegen\, hoe meer kansen je kunt benutten. Zonder veerkracht loop je het risico dat stress\, werkdruk en onzekerheid de boventoon voeren. Maar met de juiste mindset en tools kun je verandering juist omarmen als een kans voor groei. \nBetrokkenheid\, een heldere visie en een cultuur van vertrouwen maken het verschil tussen een team dat stagneert en een team dat floreert. Als leider speel jij een cruciale rol in het ontwikkelen van die veerkracht: door te coachen\, te inspireren en ruimte te geven voor ontwikkeling. \nWil jij ook een veerkrachtig en betrokken team creëren\, zodat je verder kunt groeien en meer impact kunt maken zonder dat dit ten koste gaat van jezelf? Ik leer het je graag in deze masterclass! \nWat neem je mee uit deze sessie: \n\nHoe je de overstap maakt van (micro)manager naar een sterke\, inspirerende\, coachende leider;\nDe 5 succesfactoren van een effectief team;\nDe 3 cruciale stappen welke jij te zetten hebt om succesvol en effectief je team aan te sturen.\n\nLet op: Klik na het aanmelden op de knop ‘add to calendar’. De zoomlink wordt meegestuurd in de bevestigingsmail.
URL:https://wesharetalent.com/event/creeer-een-sterk-team-met-coachend-leiderschap/
LOCATION:Leid met lef | Online via Zoom
CATEGORIES:Organisatie ontwikkeling,Persoonlijke ontwikkeling
ATTACH;FMTTYPE=image/jpeg:https://wesharetalent.com/wp-content/uploads/2024/12/Website-fotos-16.jpg
END:VEVENT
END:VCALENDAR